BEGIN:VCALENDAR
VERSION:2.0
PRODID:-//Cad Works Intl. - ECPv6.11.2//NONSGML v1.0//EN
CALSCALE:GREGORIAN
METHOD:PUBLISH
X-ORIGINAL-URL:https://cadworks.ro
X-WR-CALDESC:Events for Cad Works Intl.
REFRESH-INTERVAL;VALUE=DURATION:PT1H
X-Robots-Tag:noindex
X-PUBLISHED-TTL:PT1H
BEGIN:VTIMEZONE
TZID:Europe/Helsinki
BEGIN:DAYLIGHT
TZOFFSETFROM:+0200
TZOFFSETTO:+0300
TZNAME:EEST
DTSTART:20220327T010000
END:DAYLIGHT
BEGIN:STANDARD
TZOFFSETFROM:+0300
TZOFFSETTO:+0200
TZNAME:EET
DTSTART:20221030T010000
END:STANDARD
END:VTIMEZONE
BEGIN:VEVENT
DTSTART;TZID=Europe/Helsinki:20221118T110000
DTEND;TZID=Europe/Helsinki:20221118T120000
DTSTAMP:20260425T014152
CREATED:20221122T083917Z
LAST-MODIFIED:20221122T083917Z
UID:34897-1668769200-1668772800@cadworks.ro
SUMMARY:Webinar "Informare privind politica de licențiere SOLIDWORKS"
DESCRIPTION:Începând cu anul 2019 Dassault Systemes SOLIDWORKS a decis să modifice politica de licențiere a SOLIDWORKS Desktop și implicit politica de prețuri a diferitelor variante de licențiere.\n\nAstfel din 2019 există și licențe inchiriate pe lângă cele permanente\, din 2020 există 3DEXPERIENCE SOLIDWORKS\, iar din 2021 există SOLIDWORKS Cloud.\n\nDin luna martie 2023 se va modifica politica de licențiere pentru SOLIDWORKS Desktop\, licențe perpetue locale și de rețea.\n\nPână la 30 decembrie 2022 există oportunitatea de a actualiza licențele SOLIDWORKS existente sau de a achiziționa noi licențe.
URL:https://cadworks.ro/event/webinar-informare-privind-politica-de-licentiere-solidworks/
CATEGORIES:webinar
ORGANIZER;CN="CadWorks":MAILTO:marketing@cadworks.ro
END:VEVENT
BEGIN:VEVENT
DTSTART;TZID=Europe/Helsinki:20221125T110000
DTEND;TZID=Europe/Helsinki:20221125T120000
DTSTAMP:20260425T014152
CREATED:20221122T083724Z
LAST-MODIFIED:20221122T083724Z
UID:34895-1669374000-1669377600@cadworks.ro
SUMMARY:Webinar "Informare privind politica de licențiere & Oferte promoționale SOLIDWORKS"
DESCRIPTION:Începând cu anul 2019 Dassault Systemes SOLIDWORKS a decis să modifice politica de licențiere a SOLIDWORKS Desktop și implicit politica de prețuri a diferitelor variante de licențiere.\n\nAstfel din 2019 există și licențe inchiriate pe lângă cele permanente\, din 2020 există 3DEXPERIENCE SOLIDWORKS\, iar din 2021 există SOLIDWORKS Cloud.\n\nDin luna martie 2023 se va modifica politica de licențiere pentru SOLIDWORKS Desktop\, licențe perpetue locale și de rețea.\n\nPână la 30 decembrie 2022 există oportunitatea de a actualiza licențele SOLIDWORKS existente sau de a achiziționa noi licențe.\n\nVă rugăm să participați la prezentarea web de vineri\, 25.11.2022\, pentru a afla informații importante privind modificarea politicii de licențiere\, dar și care sunt ofertele promoționale SOLIDWORKS de sfârșit de an.\n\nÎnregistrare webinar aici.
URL:https://cadworks.ro/event/webinar-informare-privind-politica-de-licentiere-oferte-promotionale-solidworks/
CATEGORIES:webinar
ORGANIZER;CN="CadWorks":MAILTO:marketing@cadworks.ro
END:VEVENT
END:VCALENDAR