BEGIN:VCALENDAR
VERSION:2.0
PRODID:-//Cad Works Intl. - ECPv6.11.2//NONSGML v1.0//EN
CALSCALE:GREGORIAN
METHOD:PUBLISH
X-ORIGINAL-URL:https://cadworks.ro
X-WR-CALDESC:Events for Cad Works Intl.
REFRESH-INTERVAL;VALUE=DURATION:PT1H
X-Robots-Tag:noindex
X-PUBLISHED-TTL:PT1H
BEGIN:VTIMEZONE
TZID:Europe/Helsinki
BEGIN:DAYLIGHT
TZOFFSETFROM:+0200
TZOFFSETTO:+0300
TZNAME:EEST
DTSTART:20230326T010000
END:DAYLIGHT
BEGIN:STANDARD
TZOFFSETFROM:+0300
TZOFFSETTO:+0200
TZNAME:EET
DTSTART:20231029T010000
END:STANDARD
END:VTIMEZONE
BEGIN:VEVENT
DTSTART;TZID=Europe/Helsinki:20230427T103000
DTEND;TZID=Europe/Helsinki:20230427T110000
DTSTAMP:20260424T180844
CREATED:20230419T100949Z
LAST-MODIFIED:20230419T100949Z
UID:35458-1682591400-1682593200@cadworks.ro
SUMMARY:Webinar 3DEXPERIENCE SOLIDWORKS - MITER SAW
DESCRIPTION:Future of Design: 3DEXPERIENCE SOLIDWORKS\nCAD-Aware Cloud Storage and Plenty More \nPentru înregistrare accesați link-ul: https://attendee.gotowebinar.com/register/5247663765686582615
URL:https://cadworks.ro/event/webinar-3dexperience-solidworks-miter-saw/
CATEGORIES:webinar
ORGANIZER;CN="CadWorks":MAILTO:marketing@cadworks.ro
END:VEVENT
END:VCALENDAR