BEGIN:VCALENDAR
VERSION:2.0
PRODID:-//Cad Works Intl. - ECPv6.11.2//NONSGML v1.0//EN
CALSCALE:GREGORIAN
METHOD:PUBLISH
X-WR-CALNAME:Cad Works Intl.
X-ORIGINAL-URL:https://cadworks.ro
X-WR-CALDESC:Events for Cad Works Intl.
REFRESH-INTERVAL;VALUE=DURATION:PT1H
X-Robots-Tag:noindex
X-PUBLISHED-TTL:PT1H
BEGIN:VTIMEZONE
TZID:Europe/Helsinki
BEGIN:DAYLIGHT
TZOFFSETFROM:+0200
TZOFFSETTO:+0300
TZNAME:EEST
DTSTART:20230326T010000
END:DAYLIGHT
BEGIN:STANDARD
TZOFFSETFROM:+0300
TZOFFSETTO:+0200
TZNAME:EET
DTSTART:20231029T010000
END:STANDARD
END:VTIMEZONE
BEGIN:VEVENT
DTSTART;TZID=Europe/Helsinki:20230504T113000
DTEND;TZID=Europe/Helsinki:20230504T113000
DTSTAMP:20260424T164059
CREATED:20230425T122741Z
LAST-MODIFIED:20230427T115055Z
UID:35614-1683199800-1683199800@cadworks.ro
SUMMARY:Webinar - Nou în SOLIDWORKS 2023
DESCRIPTION:  \nAm ajuns aproape de jumatatea anului 2023 și e timpul să treceți la noua versiune a SOLIDWORKS.\nProductivitate\, interfață îmbunătățită\, viteză de lucru și multe alte lucruri interesante! \nVă puteți înregistra la webinar aici.
URL:https://cadworks.ro/event/webinar-nou-in-solidworks-2023/
CATEGORIES:webinar
ORGANIZER;CN="CadWorks":MAILTO:marketing@cadworks.ro
END:VEVENT
BEGIN:VEVENT
DTSTART;TZID=Europe/Helsinki:20230509T110000
DTEND;TZID=Europe/Helsinki:20230509T113000
DTSTAMP:20260424T164059
CREATED:20230505T102438Z
LAST-MODIFIED:20230505T102512Z
UID:35698-1683630000-1683631800@cadworks.ro
SUMMARY:Webinar Modificări licențiere SOLIDWORKS & 3DX iulie 2023
DESCRIPTION:Urmează schimbări majore și benefice din iulie 2023 privind licențierea SOLIDWORKS & 3DEXPERIENCE! \nDassault Systemes are în vedere mereu extinderea ecosistemului 3D CAD creat pe tot mapamondul\, ținta principală fiind mereu să atingă nivelul de cel mai puternic și inovativ portofoliu din lume. \nÎn acest sens vor urma modificări majore în partea de business\, dar și noutăți în beneficiul 100% al utilizatorului! \nCe se schimbă? \nPentru a vă explica și a vă răspunde întrebărilor\, vom organiza săptămânal în luna mai și iunie webinarii în care vom anunța care vor fi transformările prin care va trece licențierea SOLIDWORKS & 3DEXPERIENCE începând cu iulie 2023 și vă vom prezenta promoțiile la reabonare valabile până la 30 iunie 2023. \nNoi\, CAD WORKS\, vrem să ne asigurăm ca toți utilizatorii SOLIDWORKS din România vor avea cunoștință de aceste modificări! \nVă rugăm să participați la primul webinar de marți\, 09 mai – ora 11:00! \nLink înregistrare aici.
URL:https://cadworks.ro/event/webinar-modificari-licentiere-solidworks-3dx-iulie-2023/
CATEGORIES:webinar
ORGANIZER;CN="CadWorks":MAILTO:marketing@cadworks.ro
END:VEVENT
BEGIN:VEVENT
DTSTART;TZID=Europe/Helsinki:20230511T110000
DTEND;TZID=Europe/Helsinki:20230511T113000
DTSTAMP:20260424T164059
CREATED:20230502T114533Z
LAST-MODIFIED:20230503T111659Z
UID:35681-1683802800-1683804600@cadworks.ro
SUMMARY:Webinar - Nou în SOLIDWORKS 2023 Partea II-a
DESCRIPTION:  \nContinuăm prezentarea noutăților din versiunea 2023 a SOLIDWORKS cu partea a doua.\nSperăm că cea de-a doua prezentare să vă convingă o dată în plus că merită să treceți la ultima versiune a SOLIDWORKS. \nPentru înregistrare accesați link-ul.
URL:https://cadworks.ro/event/webinar-nou-in-solidworks-2023-partea-ii-a/
CATEGORIES:webinar
ORGANIZER;CN="CadWorks":MAILTO:marketing@cadworks.ro
END:VEVENT
BEGIN:VEVENT
DTSTART;TZID=Europe/Helsinki:20230516T103000
DTEND;TZID=Europe/Helsinki:20230516T110000
DTSTAMP:20260424T164059
CREATED:20230509T100221Z
LAST-MODIFIED:20230509T100221Z
UID:35725-1684233000-1684234800@cadworks.ro
SUMMARY:Webinar Modificări licențiere SOLIDWORKS & 3DX iulie 2023
DESCRIPTION:Dassault Systemes are în vedere mereu extinderea ecosistemului 3D CAD creat pe tot mapamondul\, ținta principală fiind mereu să atingă nivelul de cel mai puternic și inovativ portofoliu din lume.\nÎn acest sens vor urma modificări majore în partea de business\, dar și noutăți în beneficiul 100% al utilizatorului! \nCe se schimbă?\nPentru a vă explica și a vă răspunde întrebărilor\, vom organiza săptămânal în luna mai și iunie webinarii în care vom anunța care vor fi transformările prin care va trece licențierea SOLIDWORKS & 3DEXPERIENCE începând cu iulie 2023 și vă vom prezenta promoțiile la reabonare valabile până la 30 iunie 2023. \nNoi\, CAD WORKS\, vrem să ne asigurăm ca toți utilizatorii SOLIDWORKS din România vor avea cunoștință de aceste modificări! \nPentru înregistrare accesați link-ul.
URL:https://cadworks.ro/event/webinar-modificari-licentiere-solidworks-3dx-iulie-2023-2/
CATEGORIES:webinar
ORGANIZER;CN="CadWorks":MAILTO:marketing@cadworks.ro
END:VEVENT
BEGIN:VEVENT
DTSTART;TZID=Europe/Helsinki:20230518T110000
DTEND;TZID=Europe/Helsinki:20230518T113000
DTSTAMP:20260424T164059
CREATED:20230502T114741Z
LAST-MODIFIED:20230511T070814Z
UID:35684-1684407600-1684409400@cadworks.ro
SUMMARY:Webinar PDM on Cloud
DESCRIPTION:Cu platforma 3DEXPERIENCE\, utilizatorii SOLIDWORKS au acces la un set extins de capabilități PDM (Product Data Management)\, inclusiv un control mai bun al versiunilor și configurărilor produselor\, o colaborare mai facilă cu alți membri ai echipei și o gestionare mai eficientă a proceselor de inginerie.\nCu această integrare\, puteți să vă concentrați mai mult asupra proiectării și inovației\, în timp ce platforma se ocupă de gestionarea datelor de proiect. De asemenea\, puteți să utilizați platforma 3DEXPERIENCE pentru a accesa resurse suplimentare\, cum ar fi simularea\, analiza și visualizarea.\nÎn plus\, platforma 3DEXPERIENCE vă permite să colaborați cu colegii și partenerii de afaceri din întreaga lume\, ceea ce vă poate ajuta să vă extindeți și să vă îmbunătățiți operațiunile de afaceri. \nPentru înregistrare accesați link-ul.
URL:https://cadworks.ro/event/webinar-pdm-on-cloud/
CATEGORIES:webinar
ORGANIZER;CN="CadWorks":MAILTO:marketing@cadworks.ro
END:VEVENT
BEGIN:VEVENT
DTSTART;TZID=Europe/Helsinki:20230523T103000
DTEND;TZID=Europe/Helsinki:20230523T110000
DTSTAMP:20260424T164059
CREATED:20230516T082856Z
LAST-MODIFIED:20230516T082856Z
UID:35759-1684837800-1684839600@cadworks.ro
SUMMARY:Webinar Modificări licențiere SOLIDWORKS - Q&A
DESCRIPTION:Dassault Systemes are în vedere mereu extinderea ecosistemului 3D CAD creat pe tot mapamondul\, ținta principală fiind mereu să atingă nivelul de cel mai puternic și inovativ portofoliu din lume.\nÎn acest sens vor urma modificări majore în partea de business\, dar și noutăți în beneficiul 100% al utilizatorului! \nCe se schimbă? \nPentru a vă explica și a vă răspunde întrebărilor\, vom organiza săptămânal în luna mai și iunie webinarii în care vom anunța care vor fi transformările prin care va trece licențierea SOLIDWORKS & 3DEXPERIENCE începând cu iulie 2023 și vă vom prezenta promoțiile la reabonare valabile până la 30 iunie 2023. \nNoi\, CAD WORKS\, vrem să ne asigurăm ca toți utilizatorii SOLIDWORKS din România vor avea cunoștință de aceste modificări! \nÎnregistrează-te la webinar aici.
URL:https://cadworks.ro/event/webinar-modificari-licentiere-solidworks-qa/
CATEGORIES:webinar
ORGANIZER;CN="CadWorks":MAILTO:marketing@cadworks.ro
END:VEVENT
BEGIN:VEVENT
DTSTART;TZID=Europe/Helsinki:20230525T110000
DTEND;TZID=Europe/Helsinki:20230525T113000
DTSTAMP:20260424T164059
CREATED:20230502T114856Z
LAST-MODIFIED:20230502T114856Z
UID:35686-1685012400-1685014200@cadworks.ro
SUMMARY:Webinar 3DEXPERIENCE WORKS SIMULIA
DESCRIPTION:  \n  \nPentru înregistrare accesați link-ul.
URL:https://cadworks.ro/event/webinar-3dexperience-works-simulia/
CATEGORIES:webinar
ORGANIZER;CN="CadWorks":MAILTO:marketing@cadworks.ro
END:VEVENT
BEGIN:VEVENT
DTSTART;TZID=Europe/Helsinki:20230530T103000
DTEND;TZID=Europe/Helsinki:20230530T110000
DTSTAMP:20260424T164059
CREATED:20230530T073308Z
LAST-MODIFIED:20230530T073308Z
UID:35849-1685442600-1685444400@cadworks.ro
SUMMARY:Webinar Modificări licențiere SOLIDWORKS - Q&A
DESCRIPTION:Urmează schimbări majore și benefice din iulie 2023 privind licențierea SOLIDWORKS & 3DEXPERIENCE! \nDassault Systemes are în vedere mereu extinderea ecosistemului 3D CAD creat pe tot mapamondul\, ținta principală fiind mereu să atingă nivelul de cel mai puternic și inovativ portofoliu din lume. \nÎn acest sens vor urma modificări majore în partea de business\, dar și noutăți în beneficiul 100% al utilizatorului! \nCe se schimbă? \nPentru a vă explica și a vă răspunde întrebărilor\, vom organiza săptămânal în luna mai și iunie webinarii în care vom anunța care vor fi transformările prin care va trece licențierea SOLIDWORKS & 3DEXPERIENCE începând cu iulie 2023 și vă vom prezenta promoțiile la reabonare valabile până la 30 iunie 2023. \nNoi\, CAD WORKS\, vrem să ne asigurăm ca toți utilizatorii SOLIDWORKS din România vor avea cunoștință de aceste modificări! \nVă rugăm să participați webinar\, marți\, 30 mai – ora 10:30! \nÎnregistrare
URL:https://cadworks.ro/event/webinar-modificari-licentiere-solidworks-qa-2/
CATEGORIES:webinar
ORGANIZER;CN="CadWorks":MAILTO:marketing@cadworks.ro
END:VEVENT
END:VCALENDAR