BEGIN:VCALENDAR
VERSION:2.0
PRODID:-//Cad Works Intl. - ECPv6.11.2//NONSGML v1.0//EN
CALSCALE:GREGORIAN
METHOD:PUBLISH
X-WR-CALNAME:Cad Works Intl.
X-ORIGINAL-URL:https://cadworks.ro
X-WR-CALDESC:Events for Cad Works Intl.
REFRESH-INTERVAL;VALUE=DURATION:PT1H
X-Robots-Tag:noindex
X-PUBLISHED-TTL:PT1H
BEGIN:VTIMEZONE
TZID:Europe/Helsinki
BEGIN:DAYLIGHT
TZOFFSETFROM:+0200
TZOFFSETTO:+0300
TZNAME:EEST
DTSTART:20250330T010000
END:DAYLIGHT
BEGIN:STANDARD
TZOFFSETFROM:+0300
TZOFFSETTO:+0200
TZNAME:EET
DTSTART:20251026T010000
END:STANDARD
END:VTIMEZONE
BEGIN:VEVENT
DTSTART;TZID=Europe/Helsinki:20250522T100000
DTEND;TZID=Europe/Helsinki:20250522T103000
DTSTAMP:20260423T032827
CREATED:20250519T072004Z
LAST-MODIFIED:20250519T073254Z
UID:40902-1747908000-1747909800@cadworks.ro
SUMMARY:Webinar Descoperă Puterea SOLIDWORKS Electrical 2D și 3D
DESCRIPTION:  \nBine ai venit în lumea proiectării electrice inteligente! \nÎn acest webinar\, vei explora cum SOLIDWORKS Electrical combină eficiența proiectării 2D cu flexibilitatea modelării 3D pentru a optimiza fluxul de lucru în inginerie electrică. \nCe vei descoperi: \n✔ Prezentarea capabilităților cheie ale SOLIDWORKS Electrical pentru proiectare electrică \n✔ Fluxul de lucru integrat între schemele 2D și modelele 3D în mediul SOLIDWORKS \n✔ Generarea automatizată a documentației și a listelor de materiale \n\n\n\n\n\n\n\n\n\n\n\n\nÎnregistrare Webinar \n\n\n\n\n\n\n\n\n\n\n\n\n\n\n\n\n\n\n\nPentru cine este potrivit? \nIngineri electrici\, proiectanți\, studenți și oricine dorește să afle mai multe despre productivitatea în proiectarea de sisteme electrice.
URL:https://cadworks.ro/event/webinar-descopera-puterea-solidworks-electrical-2d-si-3d/
CATEGORIES:webinar
ORGANIZER;CN="CadWorks":MAILTO:marketing@cadworks.ro
END:VEVENT
BEGIN:VEVENT
DTSTART;TZID=Europe/Helsinki:20250527T100000
DTEND;TZID=Europe/Helsinki:20250527T103000
DTSTAMP:20260423T032827
CREATED:20250519T072204Z
LAST-MODIFIED:20250522T051458Z
UID:40905-1748340000-1748341800@cadworks.ro
SUMMARY:Webinar SOLIDWORKS Simulation - Măsuram de trei ori (SIMULARE)\, tăiem o dată (PRODUCȚIE)
DESCRIPTION:  \n  \nVă invităm la o discuție despre simulare alături de colegul nostru\, Vlad Bîrlogeanu. Vom vedea cum scenarii și încercări\, mergând dinspre încercări simple către scenarii complexe\, sunt rezolvate cu SOLIDWORKS Simulation și SIMULIA\, soluțiile de simulare dezvoltate de SOLIDWORKS.\nCâteva dintre acestea sunt:\n– Analizarea vibrațiilor\n– Găsirea formei optime (Optimizare Topologică)\n– Drop Test\n– Crash Test\nLa final vom discuta despre cum încadrăm tipul nostru de analiză într-o soluție SOLIDWORKS și care sunt pașii de implementare a acesteia. \nÎnregistrare webinar aici.
URL:https://cadworks.ro/event/webinar-solidworks-simulation-masuram-de-trei-ori-simulare-taiem-o-data-productie/
CATEGORIES:webinar
ORGANIZER;CN="CadWorks":MAILTO:marketing@cadworks.ro
END:VEVENT
BEGIN:VEVENT
DTSTART;TZID=Europe/Helsinki:20250529T100000
DTEND;TZID=Europe/Helsinki:20250529T103000
DTSTAMP:20260423T032827
CREATED:20250519T073144Z
LAST-MODIFIED:20250522T075504Z
UID:40907-1748512800-1748514600@cadworks.ro
SUMMARY:Webinar SOLIDWORKS Composer - Comunicare clară pentru idei complexe
DESCRIPTION:  \nDescoperim alături de colega noastră\, Paula Schitea\, cum simplificăm documentația tehnică a proiectelor noastre pentru a fi ușor de înțeles atât pe linia de producție\, cât și în mâinile clientului.\n– Cum ne ajută SOLIDWORKS Composer în crearea documentației tehnice a proiectelor\, clar și ușor de înțeles\n– Manual de asamblare interactiv\n– Automatizarea achiziției de componente de schimb direct din documentația produsului\n– Exemple din industrie\n– Pași pentru implementare. \nÎnregistrare webinar aici.
URL:https://cadworks.ro/event/webinar-solidworks-composer-comunicare-clara-pentru-idei-complexe/
CATEGORIES:webinar
ORGANIZER;CN="CadWorks":MAILTO:marketing@cadworks.ro
END:VEVENT
END:VCALENDAR