BEGIN:VCALENDAR
VERSION:2.0
PRODID:-//Cad Works Intl. - ECPv6.11.2//NONSGML v1.0//EN
CALSCALE:GREGORIAN
METHOD:PUBLISH
X-WR-CALNAME:Cad Works Intl.
X-ORIGINAL-URL:https://cadworks.ro
X-WR-CALDESC:Events for Cad Works Intl.
REFRESH-INTERVAL;VALUE=DURATION:PT1H
X-Robots-Tag:noindex
X-PUBLISHED-TTL:PT1H
BEGIN:VTIMEZONE
TZID:Europe/Helsinki
BEGIN:DAYLIGHT
TZOFFSETFROM:+0200
TZOFFSETTO:+0300
TZNAME:EEST
DTSTART:20240331T010000
END:DAYLIGHT
BEGIN:STANDARD
TZOFFSETFROM:+0300
TZOFFSETTO:+0200
TZNAME:EET
DTSTART:20241027T010000
END:STANDARD
BEGIN:DAYLIGHT
TZOFFSETFROM:+0200
TZOFFSETTO:+0300
TZNAME:EEST
DTSTART:20250330T010000
END:DAYLIGHT
BEGIN:STANDARD
TZOFFSETFROM:+0300
TZOFFSETTO:+0200
TZNAME:EET
DTSTART:20251026T010000
END:STANDARD
END:VTIMEZONE
BEGIN:VEVENT
DTSTART;TZID=Europe/Helsinki:20240919T103000
DTEND;TZID=Europe/Helsinki:20240919T113000
DTSTAMP:20260425T134613
CREATED:20240918T110907Z
LAST-MODIFIED:20240918T110907Z
UID:39245-1726741800-1726745400@cadworks.ro
SUMMARY:Webinar SOLIDWORKS și Inteligența Artificială
DESCRIPTION:Cum transformă Inteligența Artificială proiectarea în SOLIDWORKS? \nVom explora inovațiile aduse de Inteligența Artificială în SOLIDWORKS\, inclusiv utilizarea inteligenței artificiale pentru designul de mobilier\, simularea cu element finit pentru optimizarea structurală a proiectelor\, și asistența AI în procesul de Reverse Engineering. Descoperiți cum aceste tehnologii avansate pot transforma modul în care abordați proiectarea și dezvoltarea produselor. \nÎnregistrare: https://attendee.gotowebinar.com/register/1022218601056013152
URL:https://cadworks.ro/event/webinar-solidworks-si-inteligenta-artificiala/
CATEGORIES:webinar
ORGANIZER;CN="CadWorks":MAILTO:marketing@cadworks.ro
END:VEVENT
BEGIN:VEVENT
DTSTART;TZID=Europe/Helsinki:20241001T160000
DTEND;TZID=Europe/Helsinki:20241001T170000
DTSTAMP:20260425T134613
CREATED:20240930T070309Z
LAST-MODIFIED:20240930T070309Z
UID:39338-1727798400-1727802000@cadworks.ro
SUMMARY:Webinar Back to school with SOLIDWORKS
DESCRIPTION:Webinar Back to school with SOLIDWORKS \n  \nOcazia perfectă pentru a afla cum vă poate sprijini SOLIDWORKS în călătoria dumneavoastră educațională și profesională! \nÎn timpul acestui webinar veți învăța: \n\nPrincipalele caracteristici și instrumente ale SOLIDWORKS Education.\nCum să utilizați SOLIDWORKS pentru proiecte academice și profesionale.\nResursele disponibile pentru studenți și profesori pentru a îmbunătăți abilitățile în CAD 3D.\nExemple practice și referințe de proiecte finalizate cu SOLIDWORKS.\n\nÎnregistrare webinar: Webinar :Back to school with SOLIDWORKS – SOLIDWORKS®
URL:https://cadworks.ro/event/webinar-back-to-school-with-solidworks/
CATEGORIES:webinar
END:VEVENT
BEGIN:VEVENT
DTSTART;TZID=Europe/Helsinki:20250522T100000
DTEND;TZID=Europe/Helsinki:20250522T103000
DTSTAMP:20260425T134613
CREATED:20250519T072004Z
LAST-MODIFIED:20250519T073254Z
UID:40902-1747908000-1747909800@cadworks.ro
SUMMARY:Webinar Descoperă Puterea SOLIDWORKS Electrical 2D și 3D
DESCRIPTION:  \nBine ai venit în lumea proiectării electrice inteligente! \nÎn acest webinar\, vei explora cum SOLIDWORKS Electrical combină eficiența proiectării 2D cu flexibilitatea modelării 3D pentru a optimiza fluxul de lucru în inginerie electrică. \nCe vei descoperi: \n✔ Prezentarea capabilităților cheie ale SOLIDWORKS Electrical pentru proiectare electrică \n✔ Fluxul de lucru integrat între schemele 2D și modelele 3D în mediul SOLIDWORKS \n✔ Generarea automatizată a documentației și a listelor de materiale \n\n\n\n\n\n\n\n\n\n\n\n\nÎnregistrare Webinar \n\n\n\n\n\n\n\n\n\n\n\n\n\n\n\n\n\n\n\nPentru cine este potrivit? \nIngineri electrici\, proiectanți\, studenți și oricine dorește să afle mai multe despre productivitatea în proiectarea de sisteme electrice.
URL:https://cadworks.ro/event/webinar-descopera-puterea-solidworks-electrical-2d-si-3d/
CATEGORIES:webinar
ORGANIZER;CN="CadWorks":MAILTO:marketing@cadworks.ro
END:VEVENT
BEGIN:VEVENT
DTSTART;TZID=Europe/Helsinki:20250527T100000
DTEND;TZID=Europe/Helsinki:20250527T103000
DTSTAMP:20260425T134613
CREATED:20250519T072204Z
LAST-MODIFIED:20250522T051458Z
UID:40905-1748340000-1748341800@cadworks.ro
SUMMARY:Webinar SOLIDWORKS Simulation - Măsuram de trei ori (SIMULARE)\, tăiem o dată (PRODUCȚIE)
DESCRIPTION:  \n  \nVă invităm la o discuție despre simulare alături de colegul nostru\, Vlad Bîrlogeanu. Vom vedea cum scenarii și încercări\, mergând dinspre încercări simple către scenarii complexe\, sunt rezolvate cu SOLIDWORKS Simulation și SIMULIA\, soluțiile de simulare dezvoltate de SOLIDWORKS.\nCâteva dintre acestea sunt:\n– Analizarea vibrațiilor\n– Găsirea formei optime (Optimizare Topologică)\n– Drop Test\n– Crash Test\nLa final vom discuta despre cum încadrăm tipul nostru de analiză într-o soluție SOLIDWORKS și care sunt pașii de implementare a acesteia. \nÎnregistrare webinar aici.
URL:https://cadworks.ro/event/webinar-solidworks-simulation-masuram-de-trei-ori-simulare-taiem-o-data-productie/
CATEGORIES:webinar
ORGANIZER;CN="CadWorks":MAILTO:marketing@cadworks.ro
END:VEVENT
BEGIN:VEVENT
DTSTART;TZID=Europe/Helsinki:20250529T100000
DTEND;TZID=Europe/Helsinki:20250529T103000
DTSTAMP:20260425T134613
CREATED:20250519T073144Z
LAST-MODIFIED:20250522T075504Z
UID:40907-1748512800-1748514600@cadworks.ro
SUMMARY:Webinar SOLIDWORKS Composer - Comunicare clară pentru idei complexe
DESCRIPTION:  \nDescoperim alături de colega noastră\, Paula Schitea\, cum simplificăm documentația tehnică a proiectelor noastre pentru a fi ușor de înțeles atât pe linia de producție\, cât și în mâinile clientului.\n– Cum ne ajută SOLIDWORKS Composer în crearea documentației tehnice a proiectelor\, clar și ușor de înțeles\n– Manual de asamblare interactiv\n– Automatizarea achiziției de componente de schimb direct din documentația produsului\n– Exemple din industrie\n– Pași pentru implementare. \nÎnregistrare webinar aici.
URL:https://cadworks.ro/event/webinar-solidworks-composer-comunicare-clara-pentru-idei-complexe/
CATEGORIES:webinar
ORGANIZER;CN="CadWorks":MAILTO:marketing@cadworks.ro
END:VEVENT
BEGIN:VEVENT
DTSTART;TZID=Europe/Helsinki:20250603T100000
DTEND;TZID=Europe/Helsinki:20250603T103000
DTSTAMP:20260425T134613
CREATED:20250519T074122Z
LAST-MODIFIED:20250527T085503Z
UID:40911-1748944800-1748946600@cadworks.ro
SUMMARY:Webinar SOLIDWORKS PDM - Proiecte în siguranță\, echipele în control
DESCRIPTION:  \nPe serverul meu sau în Cloud? Vă așteptăm la o discuție alături de colegii noștri\, Nucu Arama și Vlad Bîrlogeanu\, despre cum\, unde și în ce scop ne stocăm fișierele SOLIDWORKS astfel încât mereu să lucrăm pe ultima variantă a proiectului.\n– Windows File Explorer sau o interfață de browser?\n– Schimbarea denumirilor din FINAL în A.1\, A.2\, A.3 (gestionarea reviziilor)\n– Refolosirea proiectelor existente fără a le duplica\n– Planificarea proiectelor ținând cont de resurse și incluzând fișierele CAD în toate etapele proiectului\n– Pași de implementare a unui sistem PDM (Product Data Management) în compania dumneavoastră alături de echipa CAD WORKS. \nÎnregistrare webinar aici.
URL:https://cadworks.ro/event/webinar-solidworks-pdm-proiecte-in-siguranta-echipele-in-control/
CATEGORIES:webinar
ORGANIZER;CN="CadWorks":MAILTO:marketing@cadworks.ro
END:VEVENT
BEGIN:VEVENT
DTSTART;TZID=Europe/Helsinki:20250605T100000
DTEND;TZID=Europe/Helsinki:20250605T103000
DTSTAMP:20260425T134613
CREATED:20250519T075721Z
LAST-MODIFIED:20250527T055909Z
UID:40913-1749117600-1749119400@cadworks.ro
SUMMARY:Webinar SOLIDWORKS Inspection - Simplificăm inspecția\, fără hârtii\, fără erori
DESCRIPTION:  \nParcurgem alături de colegul nostru\, Alexandru Schitea\, pașii pentru a digitaliza procesul de inspecție folosind SOLIDWORKS Inspection.\n– Importul direct al toleranțelor și dimensiunilor din desenele SOLIDWORKS sau fișiere PDF/DWG\n– Suport pentru inspecții manuale sau automate\, prin preluarea măsurătorilor de la subler direct de către SOLIDWORKS\n– Crearea rapidă a raportului de inspecție în formate standard (Excel\, PDF).\nÎn încheiere vom discuta despre cum implementăm SOLIDWORKS Inspection în procesul nostru de inspecție actual. \nÎnregistrare webinar aici.
URL:https://cadworks.ro/event/webinar-solidworks-inspection-simplificam-inspectia-fara-hartii-fara-erori/
CATEGORIES:webinar
ORGANIZER;CN="CadWorks":MAILTO:marketing@cadworks.ro
END:VEVENT
BEGIN:VEVENT
DTSTART;TZID=Europe/Helsinki:20250617T100000
DTEND;TZID=Europe/Helsinki:20250617T103000
DTSTAMP:20260425T134613
CREATED:20250610T065830Z
LAST-MODIFIED:20250610T075327Z
UID:40983-1750154400-1750156200@cadworks.ro
SUMMARY:Webinar SOLIDWORKS Electrical 2D & 3D - Descoperă Puterea SOLIDWORKS Electrical 2D și 3D
DESCRIPTION:Webinar SOLIDWORKS Electrical 2D & 3D – Descoperă Puterea SOLIDWORKS Electrical 2D și 3D \nBine ai venit în lumea proiectării electrice inteligente!\nÎn acest webinar\, vei explora cum SOLIDWORKS Electrical combină eficiența proiectării 2D cu flexibilitatea modelării 3D pentru a optimiza fluxul de lucru în inginerie electrică. \nCe vei descoperi:\n✔ Prezentarea capabilităților cheie ale SOLIDWORKS Electrical pentru proiectare electrică\n✔ Fluxul de lucru integrat între schemele 2D și modelele 3D în mediul SOLIDWORKS\n✔ Generarea automatizată a documentației și a listelor de materiale \nPentru cine este potrivit?\nIngineri electrici\, proiectanți\, studenți și oricine dorește să afle mai multe despre productivitatea în proiectarea de sisteme electrice. \nÎnregistrare webinar aici.
URL:https://cadworks.ro/event/webinar-solidworks-electrical-2d-3d-descopera-puterea-solidworks-electrical-2d-si-3d/
CATEGORIES:webinar
ORGANIZER;CN="CadWorks":MAILTO:marketing@cadworks.ro
END:VEVENT
BEGIN:VEVENT
DTSTART;TZID=Europe/Helsinki:20250619T100000
DTEND;TZID=Europe/Helsinki:20250619T103000
DTSTAMP:20260425T134613
CREATED:20250612T090551Z
LAST-MODIFIED:20250612T090551Z
UID:40992-1750327200-1750329000@cadworks.ro
SUMMARY:Webinar SOLIDWORKS Simulation Partea a II-a | Măsuram de trei ori (SIMULARE)\, tăiem o dată (PRODUCȚIE)
DESCRIPTION:Măsuram de trei ori (SIMULARE)\, tăiem o dată (PRODUCȚIE) \nVă invităm la partea a II-a a discuției despre simulare alături de colegul nostru\, Vlad Bîrlogeanu. \nÎn webinar vom explora următoarele aplicații: \n– Analiza de durabilitate (obținerea numărului de cicluri de funcționare) \n– Analiza structurală a componentelor din plastic și cauciuc (materiale non-liniare și deformări mari) \n– Eficientizarea consumului de material prin analiza iterativă \n– Analiza elementelor de legatură în ansamblu \nÎnregistrare webinar aici. \n 
URL:https://cadworks.ro/event/webinar-solidworks-simulation-partea-a-ii-a-masuram-de-trei-ori-simulare-taiem-o-data-productie/
CATEGORIES:webinar
ORGANIZER;CN="CadWorks":MAILTO:marketing@cadworks.ro
END:VEVENT
BEGIN:VEVENT
DTSTART;TZID=Europe/Helsinki:20250624T100000
DTEND;TZID=Europe/Helsinki:20250624T103000
DTSTAMP:20260425T134613
CREATED:20250612T092905Z
LAST-MODIFIED:20250616T093527Z
UID:40994-1750759200-1750761000@cadworks.ro
SUMMARY:Webinar Noutăți SolidCAM 2025
DESCRIPTION:Noutăți SolidCAM 2025 \n– Noile operatii Pro3D HSR si Pro 3D HSM\n-Modificari aduse in Tool Kit\n-Configuratii VMID \nÎnregistrare webinar aici.
URL:https://cadworks.ro/event/webinar-noutati-solidcam-2025/
CATEGORIES:webinar
ORGANIZER;CN="CadWorks":MAILTO:marketing@cadworks.ro
END:VEVENT
BEGIN:VEVENT
DTSTART;TZID=Europe/Helsinki:20250626T100000
DTEND;TZID=Europe/Helsinki:20250626T103000
DTSTAMP:20260425T134613
CREATED:20250612T093026Z
LAST-MODIFIED:20250619T094520Z
UID:40996-1750932000-1750933800@cadworks.ro
SUMMARY:Webinar SOLIDWORKS PDM
DESCRIPTION:  \nPe serverul meu sau în Cloud? Vă așteptăm la o discuție alături de colegii noștri\, Nucu Arama și Vlad Bîrlogeanu\, despre cum\, unde și în ce scop ne stocăm fișierele SOLIDWORKS astfel încât mereu să lucrăm pe ultima variantă a proiectului.\n– implementare PDM (resurse\, costuri\, durată)\n– Windows File Explorer sau o interfață de browser?\n– Schimbarea denumirilor din FINAL în A.1\, A.2\, A.3 (gestionarea reviziilor)\n– Refolosirea proiectelor existente fără a le duplica\n– Planificarea proiectelor ținând cont de resurse și incluzând fișierele CAD în toate etapele proiectului \n\nÎnregistrare webinar aici.
URL:https://cadworks.ro/event/webinar-solidworks-pdm/
CATEGORIES:webinar
ORGANIZER;CN="CadWorks":MAILTO:marketing@cadworks.ro
END:VEVENT
END:VCALENDAR