BEGIN:VCALENDAR
VERSION:2.0
PRODID:-//Cad Works Intl. - ECPv6.11.2//NONSGML v1.0//EN
CALSCALE:GREGORIAN
METHOD:PUBLISH
X-ORIGINAL-URL:https://cadworks.ro
X-WR-CALDESC:Events for Cad Works Intl.
REFRESH-INTERVAL;VALUE=DURATION:PT1H
X-Robots-Tag:noindex
X-PUBLISHED-TTL:PT1H
BEGIN:VTIMEZONE
TZID:Europe/Helsinki
BEGIN:DAYLIGHT
TZOFFSETFROM:+0200
TZOFFSETTO:+0300
TZNAME:EEST
DTSTART:20210328T010000
END:DAYLIGHT
BEGIN:STANDARD
TZOFFSETFROM:+0300
TZOFFSETTO:+0200
TZNAME:EET
DTSTART:20211031T010000
END:STANDARD
BEGIN:DAYLIGHT
TZOFFSETFROM:+0200
TZOFFSETTO:+0300
TZNAME:EEST
DTSTART:20220327T010000
END:DAYLIGHT
BEGIN:STANDARD
TZOFFSETFROM:+0300
TZOFFSETTO:+0200
TZNAME:EET
DTSTART:20221030T010000
END:STANDARD
END:VTIMEZONE
BEGIN:VEVENT
DTSTART;TZID=Europe/Helsinki:20220407T110000
DTEND;TZID=Europe/Helsinki:20220407T113000
DTSTAMP:20260420T203207
CREATED:20220331T064012Z
LAST-MODIFIED:20220405T070801Z
UID:33839-1649329200-1649331000@cadworks.ro
SUMMARY:Webinar 3DX SIMULIA WORKS
DESCRIPTION:SIMULIA WORKS  oferă un portofoliu avansat de produse de simulare cu tehnologie de vârf pentru industrii\, ușor de utilizat.\nGama de tehnologii SIMULIA WORKS acoperă discipline de simulare\, cum ar fi mecanica structurală\, dinamica fluidelor computaționale\, dinamica multicorp\nși simularea câmpului electromagnetic pentru o adevărată abordare de simulare multifizică. \nPentru a afla mai multe înregistrați-vă la webinarul nostru aici: https://attendee.gotowebinar.com/register/7201802683364910094
URL:https://cadworks.ro/event/webinar-3dx-simulia-works/
CATEGORIES:webinar
ORGANIZER;CN="CadWorks":MAILTO:marketing@cadworks.ro
END:VEVENT
BEGIN:VEVENT
DTSTART;TZID=Europe/Helsinki:20220405T110000
DTEND;TZID=Europe/Helsinki:20220405T113000
DTSTAMP:20260420T203207
CREATED:20220331T063011Z
LAST-MODIFIED:20220331T063339Z
UID:33834-1649156400-1649158200@cadworks.ro
SUMMARY:Webinar 3DX PDM on cloud
DESCRIPTION:Mutarea PDM la un serviciu cloud poate oferi o serie de avantaje\, cum ar fi simplificarea accesului la date pentru companiile cu lucrători care operează de la distanță\, evitarea cerințelor pentru spațiul de server fizic și reducerea I.T. și costurile de administrare PDM. \nAflați mai multe înregistrându-vă la webinarul nostru aici: https://attendee.gotowebinar.com/register/2404376165805867023
URL:https://cadworks.ro/event/webinar-3dx-pdm-on-cloud/
CATEGORIES:webinar
ORGANIZER;CN="CadWorks":MAILTO:marketing@cadworks.ro
END:VEVENT
BEGIN:VEVENT
DTSTART;TZID=Europe/Helsinki:20220331T110000
DTEND;TZID=Europe/Helsinki:20220331T120000
DTSTAMP:20260420T203207
CREATED:20220324T130554Z
LAST-MODIFIED:20220324T130554Z
UID:33797-1648724400-1648728000@cadworks.ro
SUMMARY:Webinar SIMULIA WORKS
DESCRIPTION:Webinar SIMULIA WORKS \n \n  \nPentru înregistrare accesați: https://attendee.gotowebinar.com/register/7201802683364910094 \n  \n 
URL:https://cadworks.ro/event/webinar-simulia-works/
CATEGORIES:webinar
ORGANIZER;CN="CadWorks":MAILTO:marketing@cadworks.ro
END:VEVENT
BEGIN:VEVENT
DTSTART;TZID=Europe/Helsinki:20220329T110000
DTEND;TZID=Europe/Helsinki:20220329T120000
DTSTAMP:20260420T203207
CREATED:20220324T125833Z
LAST-MODIFIED:20220324T125833Z
UID:33794-1648551600-1648555200@cadworks.ro
SUMMARY:Webinar SOLIDWORKS on cloud
DESCRIPTION:Webinar SOLIDWORKS on cloud \n \n  \nPentru înregistrare accesați: https://dashboard.gotowebinar.com/webinar/8335552003718168077
URL:https://cadworks.ro/event/webinar-solidworks-on-cloud/
CATEGORIES:webinar
ORGANIZER;CN="CadWorks":MAILTO:marketing@cadworks.ro
END:VEVENT
BEGIN:VEVENT
DTSTART;TZID=Europe/Helsinki:20220317T110000
DTEND;TZID=Europe/Helsinki:20220317T120000
DTSTAMP:20260420T203207
CREATED:20220302T104110Z
LAST-MODIFIED:20220310T085001Z
UID:33647-1647514800-1647518400@cadworks.ro
SUMMARY:Webinar SOLIDWORKS on cloud. Managementul proiectelor
DESCRIPTION:Webinar SOLIDWORKS on cloud. Managementul proiectelor \nCum vă conectați echipele de proiectare\, inginerie și afaceri? \nCu 3DEXPERIENCE Works\, conectarea tuturor celorlalți la SOLIDWORKS este la doar câteva clicuri distanță. \n  \nPentru înregistrare accesați link-ul: https://attendee.gotowebinar.com/register/5038105636212071438
URL:https://cadworks.ro/event/webinar-solidworks-on-cloud-managementul-proiectelor/
CATEGORIES:webinar
ORGANIZER;CN="CadWorks":MAILTO:marketing@cadworks.ro
END:VEVENT
BEGIN:VEVENT
DTSTART;TZID=Europe/Helsinki:20220210T110000
DTEND;TZID=Europe/Helsinki:20220210T113000
DTSTAMP:20260420T203207
CREATED:20220201T115713Z
LAST-MODIFIED:20220201T115713Z
UID:33430-1644490800-1644492600@cadworks.ro
SUMMARY:Webinar 3DX SIMULIA/ABAQUS Part III
DESCRIPTION:Soluție unificată FEA \nPentru înregistrare accesați : https://attendee.gotowebinar.com/register/3512932374952652811
URL:https://cadworks.ro/event/webinar-3dx-simulia-abaqus-part-iii/
CATEGORIES:webinar
ORGANIZER;CN="CadWorks":MAILTO:marketing@cadworks.ro
END:VEVENT
BEGIN:VEVENT
DTSTART;TZID=Europe/Helsinki:20220208T110000
DTEND;TZID=Europe/Helsinki:20220208T113000
DTSTAMP:20260420T203207
CREATED:20220201T114815Z
LAST-MODIFIED:20220201T114859Z
UID:33425-1644318000-1644319800@cadworks.ro
SUMMARY:Webinar 3DX ENOVIA.PDM Part III
DESCRIPTION:Managementul proiectelor SOLIDWORKS on cloud \nPentru înregistrare accesați: https://attendee.gotowebinar.com/register/9184790594625754382 \n 
URL:https://cadworks.ro/event/webinar-3dx-enovia-part-iii/
CATEGORIES:webinar
ORGANIZER;CN="CadWorks":MAILTO:marketing@cadworks.ro
END:VEVENT
BEGIN:VEVENT
DTSTART;TZID=Europe/Helsinki:20220203T110000
DTEND;TZID=Europe/Helsinki:20220203T113000
DTSTAMP:20260420T203207
CREATED:20220127T113015Z
LAST-MODIFIED:20220127T113015Z
UID:33346-1643886000-1643887800@cadworks.ro
SUMMARY:Webinar 3DX SIMULIA WORKS Part II
DESCRIPTION:Dezvăluiți lumea în care trăim\nSIMULIA/ABAQUS oferă o soluție puternică care vă poate ajuta să rezolvați atât problemele de inginerie de rutină\, cât și cele complexe într-o gamă largă de aplicații industriale. Profitați de capabilitățile robuste ale ABAQUS pentru a vă reduce dependența de testarea fizică\, pentru a reduce costurile și pentru a asigura performanța optimă a produsului. \nPentru înregistrare accesați: https://attendee.gotowebinar.com/register/7874030897204126736
URL:https://cadworks.ro/event/webinar-3dx-simulia-works-part-ii/
CATEGORIES:webinar
ORGANIZER;CN="CadWorks":MAILTO:marketing@cadworks.ro
END:VEVENT
BEGIN:VEVENT
DTSTART;TZID=Europe/Helsinki:20220201T110000
DTEND;TZID=Europe/Helsinki:20220201T113000
DTSTAMP:20260420T203207
CREATED:20220127T113345Z
LAST-MODIFIED:20220127T113345Z
UID:33349-1643713200-1643715000@cadworks.ro
SUMMARY:Webinar 3DX ENOVIA WORKS & PDM Part II
DESCRIPTION:  \nPlanificați-vă definiția succesului\nInterfața intuitivă a utilizatorului ENOVIA funcționează printr-un browser web standard și se poate integra pe deplin cu soluțiile de proiectare\, inginerie și analiză de la Dassault Systèmes\, precum și ale altor platforme de furnizori de software. ENOVIA se angajează să furnizeze produse și soluții care să permită persoanelor din orice organizație – de la întreprinderi mici la cele mai mari întreprinderi globale – să participe la inovații colaborative eficiente și pline de satisfacții. \nPentru înregistrare accesați: https://attendee.gotowebinar.com/register/8035224799394185742
URL:https://cadworks.ro/event/webinar-3dx-enovia-works-pdm-part-ii/
CATEGORIES:webinar
ORGANIZER;CN="CadWorks":MAILTO:marketing@cadworks.ro
END:VEVENT
BEGIN:VEVENT
DTSTART;TZID=Europe/Helsinki:20220127T110000
DTEND;TZID=Europe/Helsinki:20220127T113000
DTSTAMP:20260420T203207
CREATED:20220121T073007Z
LAST-MODIFIED:20220121T073007Z
UID:33310-1643281200-1643283000@cadworks.ro
SUMMARY:Webinar 3DEXPERIENCE SIMULIA Works
DESCRIPTION:Dezvăluiți lumea în care trăim\nAplicațiile SIMULIA accelerează procesul de evaluare a performanței\, fiabilității și siguranței materialelor și produselor înainte de a se angaja la prototipuri fizice. \nÎnregistrați-vă la webinar aici: https://attendee.gotowebinar.com/register/4303751714937970189 \n 
URL:https://cadworks.ro/event/webinar-3dexperience-simulia-works/
CATEGORIES:webinar
ORGANIZER;CN="CadWorks":MAILTO:marketing@cadworks.ro
END:VEVENT
BEGIN:VEVENT
DTSTART;TZID=Europe/Helsinki:20220125T110000
DTEND;TZID=Europe/Helsinki:20220125T113000
DTSTAMP:20260420T203207
CREATED:20220121T071533Z
LAST-MODIFIED:20220121T071533Z
UID:33304-1643108400-1643110200@cadworks.ro
SUMMARY:Webinar 3DEXPERIENCE ENOVIA.PDM
DESCRIPTION:Planificați-vă definiția succesului\nENOVIA deschide o nouă gamă de oportunități pentru a vă oferi cu succes produse și inovații în afaceri care creează experiențe magice pentru clienții dvs. Cu un portofoliu larg de aplicații tehnice și de afaceri pentru toți utilizatorii din întreaga companie\, ENOVIA vă permite să colaborați în siguranță și să inovați împreună pentru a construi și executa un plan de succes – unul care este flexibil\, care să permită optimizarea continuă\, urmărirea progresului în timp real și conformitatea cu standarde și reglementări pentru a vă transforma oportunitățile de piață în avantaje. \nPentru înregistrare accesați: https://attendee.gotowebinar.com/register/7603611509777382924 \n 
URL:https://cadworks.ro/event/webinar-3dexperience-enovia-pdm/
CATEGORIES:webinar
ORGANIZER;CN="CadWorks":MAILTO:marketing@cadworks.ro
END:VEVENT
BEGIN:VEVENT
DTSTART;TZID=Europe/Helsinki:20220120T110000
DTEND;TZID=Europe/Helsinki:20220120T113000
DTSTAMP:20260420T203207
CREATED:20220113T084529Z
LAST-MODIFIED:20220113T100905Z
UID:33285-1642676400-1642678200@cadworks.ro
SUMMARY:Webinar „Lucrați de oriunde cu SOLIDWORKS - Statii grafice virtuale”
DESCRIPTION:În era mobilității și a muncii de la distanță\, din ce în ce mai multe companii integrează infrastructura computerelor virtuale. Platformele de calcul Hewlett Packard Enterprise cu tehnologie NVIDIA vGPU se adresează unei game largi de companii\, îndeplinind nevoi de securitate\, performanță și asigurând capacitatea de administrare superioară a datelor.\nSoluțiile Hewlett Packard Enterprise permit utilizatorilor să lucreze de oriunde\, pe orice dispozitiv\, cu acces la SOLIDWORKS și la aplicațiile de care au nevoie\, pentru a-și accelera sarcinile de lucru.\n\nAflați mai multe informații despre aceste tehnologii în webinarul „Lucrați de oriunde cu SOLIDWORKS – Statii grafice virtuale” care va avea loc joi\, 20 ianuarie\, ora 11:00.\n\nPentru înregistrare accesați: https://attendee.gotowebinar.com/register/7912876642682767887
URL:https://cadworks.ro/event/webinar-statii-grafice-virtuale/
CATEGORIES:webinar
ORGANIZER;CN="CadWorks":MAILTO:marketing@cadworks.ro
END:VEVENT
BEGIN:VEVENT
DTSTART;TZID=Europe/Helsinki:20210708T110000
DTEND;TZID=Europe/Helsinki:20210708T113000
DTSTAMP:20260420T203207
CREATED:20210701T110009Z
LAST-MODIFIED:20210701T110055Z
UID:32492-1625742000-1625743800@cadworks.ro
SUMMARY:Webinar Noutăți în SolidCAM 2021
DESCRIPTION:Ascultarea și rezolvarea nevoilor clienților este un principiu adânc înrădăcinat în „ADN-ul” SolidCAM.\nDupă o perioadă de dezvoltare de trei ani\, SolidCAM2021 a fost lansat și prezentat în timpul unui unic\neveniment online: „SolidCAM World 2021 – Summit virtual”.\n\n\n\nÎnregistrați-vă la webinar pentru a afla toate noutățile aduse variantei 2021  https://attendee.gotowebinar.com/regi…/8612272686241733389
URL:https://cadworks.ro/event/webinar-noutati-in-solidcam-2021/
CATEGORIES:webinar
ORGANIZER;CN="CadWorks":MAILTO:marketing@cadworks.ro
END:VEVENT
BEGIN:VEVENT
DTSTART;TZID=Europe/Helsinki:20210624T110000
DTEND;TZID=Europe/Helsinki:20210624T113000
DTSTAMP:20260420T203207
CREATED:20210614T071817Z
LAST-MODIFIED:20210614T085139Z
UID:32291-1624532400-1624534200@cadworks.ro
SUMMARY:Webinar SOLIDWORKS 3D Sculptor
DESCRIPTION:Modelează. Colaborează. Inovează. \nCreați cu ușurință forme organice și suprafețe complexe cu o soluție de modelare subdiviziune bazată pe cloud (Sub-D) care rulează pe\nplatforma 3DEXPERIENCE și funcționează perfect cu SOLIDWORKS.\nCreați\, examinați și evaluați cu ușurință și rapid forme organice și ergonomice cu 3D Sculptor (care include aplicația xShape).\nColaborați fără fricțiuni și utilizați soluții care funcționează împreună perfect pe platformă pentru a proiecta\,\nsimula și fabrica produsele dvs. și pentru a vă gestiona datele și ciclul de viață. \nPentru înregistrare accesați: https://attendee.gotowebinar.com/register/2643140606922223120
URL:https://cadworks.ro/event/webinar-solidworks-3d-sculptor/
CATEGORIES:webinar
ORGANIZER;CN="CadWorks":MAILTO:marketing@cadworks.ro
END:VEVENT
BEGIN:VEVENT
DTSTART;TZID=Europe/Helsinki:20210603T110000
DTEND;TZID=Europe/Helsinki:20210603T120000
DTSTAMP:20260420T203207
CREATED:20210525T103116Z
LAST-MODIFIED:20210525T103314Z
UID:32188-1622718000-1622721600@cadworks.ro
SUMMARY:Webinar MetraSCAN Black Elite de la CREAFORM
DESCRIPTION:Linia de scannere optice CMM MetraSCAN 3D este concepută pentru profesioniștii din producție și metrologie care doresc să livreze piese de calitate\,\naprobate rapid și eficient. \nPentru înregistrare accesați: https://attendee.gotowebinar.com/register/2512427365329830159
URL:https://cadworks.ro/event/webinar-metrascan-black-elite-de-la-creaform/
CATEGORIES:webinar
ORGANIZER;CN="CadWorks":MAILTO:marketing@cadworks.ro
END:VEVENT
BEGIN:VEVENT
DTSTART;TZID=Europe/Helsinki:20210506T110000
DTEND;TZID=Europe/Helsinki:20210506T120000
DTSTAMP:20260420T203207
CREATED:20210429T074005Z
LAST-MODIFIED:20210429T074005Z
UID:32076-1620298800-1620302400@cadworks.ro
SUMMARY:Webinar SOLIDWORKS Simulation Premium
DESCRIPTION:Pentru înregistrare accesați: https://attendee.gotowebinar.com/register/3353321763311511821 \n 
URL:https://cadworks.ro/event/webinar-solidworks-simulation-premium/
CATEGORIES:webinar
ORGANIZER;CN="CadWorks":MAILTO:marketing@cadworks.ro
END:VEVENT
BEGIN:VEVENT
DTSTART;TZID=Europe/Helsinki:20210422T110000
DTEND;TZID=Europe/Helsinki:20210422T120000
DTSTAMP:20260420T203207
CREATED:20210420T101659Z
LAST-MODIFIED:20210420T101723Z
UID:32063-1619089200-1619092800@cadworks.ro
SUMMARY:Webinar SOLIDWORKS Plastics
DESCRIPTION:Webinar SOLIDWORKS Plastics \n– Simularea injecției – \nPentru înregistrare accesați linkul.
URL:https://cadworks.ro/event/webinar-solidworks-plastics/
CATEGORIES:webinar
ORGANIZER;CN="CadWorks":MAILTO:marketing@cadworks.ro
END:VEVENT
BEGIN:VEVENT
DTSTART;TZID=Europe/Helsinki:20210420T110000
DTEND;TZID=Europe/Helsinki:20210420T113000
DTSTAMP:20260420T203207
CREATED:20210414T093017Z
LAST-MODIFIED:20210419T071446Z
UID:32021-1618916400-1618918200@cadworks.ro
SUMMARY:Webinar 3DEXPERIENCE SIMULIA/ABAQUS Part I
DESCRIPTION:Pentru înregistrare accesați :linkul \n 
URL:https://cadworks.ro/event/webinar-3dexperience-simulia-abaqus-part-i/
CATEGORIES:webinar
ORGANIZER;CN="CadWorks":MAILTO:marketing@cadworks.ro
END:VEVENT
BEGIN:VEVENT
DTSTART;TZID=Europe/Helsinki:20210415T100000
DTEND;TZID=Europe/Helsinki:20210415T223000
DTSTAMP:20260420T203207
CREATED:20210412T075414Z
LAST-MODIFIED:20210412T075414Z
UID:32010-1618480800-1618525800@cadworks.ro
SUMMARY:Simularea curgerii fluidelor cu Simulia Works (2)
DESCRIPTION:
URL:https://cadworks.ro/event/simularea-curgerii-fluidelor-cu-simulia-works-2/
CATEGORIES:webinar
ORGANIZER;CN="CadWorks":MAILTO:marketing@cadworks.ro
END:VEVENT
BEGIN:VEVENT
DTSTART;TZID=Europe/Helsinki:20210413T100000
DTEND;TZID=Europe/Helsinki:20210413T223000
DTSTAMP:20260420T203207
CREATED:20210412T075228Z
LAST-MODIFIED:20210412T075437Z
UID:32007-1618308000-1618353000@cadworks.ro
SUMMARY:Simularea curgerii fluidelor cu Simulia Works (1)
DESCRIPTION:
URL:https://cadworks.ro/event/simularea-curgerii-fluidelor-cu-simulia-works-1/
CATEGORIES:webinar
ORGANIZER;CN="CadWorks":MAILTO:marketing@cadworks.ro
END:VEVENT
BEGIN:VEVENT
DTSTART;TZID=Europe/Helsinki:20210316T110000
DTEND;TZID=Europe/Helsinki:20210316T233000
DTSTAMP:20260420T203207
CREATED:20210313T204924Z
LAST-MODIFIED:20210313T205341Z
UID:31751-1615892400-1615937400@cadworks.ro
SUMMARY:Webinar Demo 3DX Collaborative Business Innovator
DESCRIPTION:
URL:https://cadworks.ro/event/webinar-demo-3dx-collaborative-business-innovator/
CATEGORIES:webinar
ORGANIZER;CN="CadWorks":MAILTO:marketing@cadworks.ro
END:VEVENT
END:VCALENDAR