BEGIN:VCALENDAR
VERSION:2.0
PRODID:-//Cad Works Intl. - ECPv6.11.2//NONSGML v1.0//EN
CALSCALE:GREGORIAN
METHOD:PUBLISH
X-ORIGINAL-URL:https://cadworks.ro
X-WR-CALDESC:Events for Cad Works Intl.
REFRESH-INTERVAL;VALUE=DURATION:PT1H
X-Robots-Tag:noindex
X-PUBLISHED-TTL:PT1H
BEGIN:VTIMEZONE
TZID:Europe/Helsinki
BEGIN:DAYLIGHT
TZOFFSETFROM:+0200
TZOFFSETTO:+0300
TZNAME:EEST
DTSTART:20250330T010000
END:DAYLIGHT
BEGIN:STANDARD
TZOFFSETFROM:+0300
TZOFFSETTO:+0200
TZNAME:EET
DTSTART:20251026T010000
END:STANDARD
BEGIN:DAYLIGHT
TZOFFSETFROM:+0200
TZOFFSETTO:+0300
TZNAME:EEST
DTSTART:20260329T010000
END:DAYLIGHT
BEGIN:STANDARD
TZOFFSETFROM:+0300
TZOFFSETTO:+0200
TZNAME:EET
DTSTART:20261025T010000
END:STANDARD
END:VTIMEZONE
BEGIN:VEVENT
DTSTART;VALUE=DATE:20250708
DTEND;VALUE=DATE:20250709
DTSTAMP:20260421T152937
CREATED:20250708T092057Z
LAST-MODIFIED:20250708T092057Z
UID:41191-1751932800-1752019199@cadworks.ro
SUMMARY:Blog "﻿Avantajele rășinilor BioMed Formlabs"
DESCRIPTION:Avantajele rășinilor BioMed Formlabs\n\nBioMed Flex 80A Resin și BioMed Elastic 50A Resin\, lansate pe piață de Formlabs\, extind posibilitățile de imprimare 3D în fabricarea dispozitivelor și componentelor medicale\, precum și tipul de îngrijire acordat în spitale. \nCele două materiale noi\, testate ISO 10993 și USP Clasa VI\, sunt produse într-o unitate înregistrată de FDA\, certificată ISO 13485. Prin urmare\, profesioniștii din domeniul medical le pot folosi cu încredere. În plus\, pe măsură ce biblioteca Formlabs de materiale biocompatibile se extinde\, imprimarea 3D devine o opțiune pentru diverse fluxuri de lucru și aplicații\, îmbunătățind îngrijirea pacientului și reducând substanțial costurile. \nAflați mai multe despre cele două materiale biocompatibile în articolul dedicat aici.
URL:https://cadworks.ro/event/blog-avantajele-rasinilor-biomed-formlabs/
CATEGORIES:articol
ORGANIZER;CN="CadWorks":MAILTO:marketing@cadworks.ro
END:VEVENT
BEGIN:VEVENT
DTSTART;VALUE=DATE:20250710
DTEND;VALUE=DATE:20250711
DTSTAMP:20260421T152937
CREATED:20250708T092850Z
LAST-MODIFIED:20250708T092850Z
UID:41193-1752105600-1752191999@cadworks.ro
SUMMARY:Blog "Piese colorate cu noile rășini Formlabs"
DESCRIPTION:Piese colorate cu noile rășini Formlabs\n  \nImprimantele 3D cu stereolitografie (SLA) Formlabs\, cum e Form 4 și Form 4L\, permit aducerea la viață a ideilor dvs\, prin fluxuri de lucru intuitive și optimizate. Totuși\, biblioteca de materiale Formlabs e cea care face posibilă obținerea esteticii și performanței de care aveți nevoie de la piesele imprimate 3D pentru orice aplicație. \nAcum\, două rășini noi Formlabs extind posibilitățile de imprimare – Color Resin V5 și True Cast. Aflați mai multe despre ele în articolul nostru dedicat aici.
URL:https://cadworks.ro/event/blog-piese-colorate-cu-noile-rasini-formlabs/
CATEGORIES:articol
ORGANIZER;CN="CadWorks":MAILTO:marketing@cadworks.ro
END:VEVENT
BEGIN:VEVENT
DTSTART;VALUE=DATE:20250722
DTEND;VALUE=DATE:20250723
DTSTAMP:20260421T152937
CREATED:20250722T103744Z
LAST-MODIFIED:20250722T103744Z
UID:41256-1753142400-1753228799@cadworks.ro
SUMMARY:
DESCRIPTION:SOLIDWORKS Cloud Apps for Makers\n  \nAți auzit de SOLIDWORKS Cloud Apps for Makers ? Pachetul include instrumente de proiectare bazate pe browser\, ușor de accesat\, pentru proiectare parametrică\, liberă ș.a. Există chiar și o aplicație de simulare pentru studii de mișcare. Deoarece instrumentele date funcționează în cloud\, nu e nevoie de vreo instalare prealabilă. Altfel spus\, obțineți stocare în cloud și actualizări automate (cu acces la noi îmbunătățiri) pe tot parcursul anului. \nCitiți mai multe aici.
URL:https://cadworks.ro/event/41256/
CATEGORIES:evenimente
ORGANIZER;CN="CadWorks":MAILTO:marketing@cadworks.ro
END:VEVENT
BEGIN:VEVENT
DTSTART;VALUE=DATE:20250723
DTEND;VALUE=DATE:20250724
DTSTAMP:20260421T152937
CREATED:20250722T103944Z
LAST-MODIFIED:20250722T103944Z
UID:41260-1753228800-1753315199@cadworks.ro
SUMMARY:Evidențierea proprietăților în Solidworks
DESCRIPTION:Evidențierea proprietăților în Solidworks\n  \nProprietățile (attributes) sunt identificatori și descriptori esențiali ai fișierelor\, deținând roluri distincte în SOLIDWORKS și platforma 3DEXPERIENCE. Majoritatea utilizatorilor sunt obișnuiți să utilizeze sisteme de management al datelor legate de produse (PDM) pentru procesul de ‘map data‘\, motiv pentru care pot fi deranjați de felul în care se desfășoară evidențierea proprietăților/attributes mapping din SOLIDWORKS în platforma 3DEXPERIENCE. \nCitiți mai multe aici.
URL:https://cadworks.ro/event/evidentierea-proprietatilor-in-solidworks/
CATEGORIES:evenimente
ORGANIZER;CN="CadWorks":MAILTO:marketing@cadworks.ro
END:VEVENT
BEGIN:VEVENT
DTSTART;VALUE=DATE:20250724
DTEND;VALUE=DATE:20250725
DTSTAMP:20260421T152937
CREATED:20250722T104148Z
LAST-MODIFIED:20250722T104148Z
UID:41263-1753315200-1753401599@cadworks.ro
SUMMARY:Noutăți SOLIDWORKS xDesign R2025x FD03
DESCRIPTION:Noutăți SOLIDWORKS xDesign \nR2025x FD03\n  \nSoluția dvs. preferată bazată pe browser\, SOLIDWORKS xDesign\, a fost îmbunătățită. Cea mai recentă actualizare\, Functional Delivery (FD)\, R2025x FD03\, include: \n\nCreare 2D pentru Section Views și Detail Views\nVizualizări generative ale desenului\nControl mai bun pentru revizuirea designului XR\nGenerative Hole Callouts pentru geometrie non-nativă\nOpțiunea de conversie a imaginii în mecanism 2D.\n\nSă aruncăm o privire la noutățile SOLIDWORKS xDesign R2025x. \nCitiți mai multe aici.
URL:https://cadworks.ro/event/noutati-solidworks-xdesign-r2025x-fd03/
CATEGORIES:evenimente
ORGANIZER;CN="CadWorks":MAILTO:marketing@cadworks.ro
END:VEVENT
BEGIN:VEVENT
DTSTART;VALUE=DATE:20250805
DTEND;VALUE=DATE:20250806
DTSTAMP:20260421T152937
CREATED:20250805T085436Z
LAST-MODIFIED:20250805T085945Z
UID:41387-1754352000-1754438399@cadworks.ro
SUMMARY:Soluția de proiectare SOLIDWORKS potrivită
DESCRIPTION:Soluția de proiectare SOLIDWORKS potrivită\n\nFiecare companie\, fie ea o întreprindere mare sau un atelier mic de scule și matrițe\, are obiective de afaceri unice de îndeplinit. Când vine vorba de proiectare și inginerie\, modul în care doriți sau aveți nevoie să proiectați și să dezvoltați produsele este esențial. Vestea bună este că SOLIDWORKS® are soluții de proiectare și dezvoltare care îndeplinesc obiectivele oricărei companii. \nCitiți articolul complet aici.
URL:https://cadworks.ro/event/solutia-de-proiectare-solidworks-potrivita/
CATEGORIES:articol
ORGANIZER;CN="CadWorks":MAILTO:marketing@cadworks.ro
END:VEVENT
BEGIN:VEVENT
DTSTART;VALUE=DATE:20250807
DTEND;VALUE=DATE:20250808
DTSTAMP:20260421T152937
CREATED:20250805T085627Z
LAST-MODIFIED:20250805T085909Z
UID:41389-1754524800-1754611199@cadworks.ro
SUMMARY:Comunicare îmbunătățită cu 3D for Makers
DESCRIPTION:Comunicare îmbunătățită cu 3D for Makers\nComunicăm prin texte\, imagini\, fișiere audio și videoclipuri. Nu e de mirare că internetul a fost populat cu ele în ultimele decenii. Au fost construite afaceri de miliarde de dolari cu conținut specializat\, cum ar fi Substack pentru texte\, Instagram pentru imagini\, Spotify pentru fișiere audio și YouTube pentru videoclipuri. \nCitiți articolul complet aici.
URL:https://cadworks.ro/event/comunicare-imbunatatita-cu-3d-for-makers/
CATEGORIES:articol
ORGANIZER;CN="CadWorks":MAILTO:marketing@cadworks.ro
END:VEVENT
BEGIN:VEVENT
DTSTART;VALUE=DATE:20250812
DTEND;VALUE=DATE:20250813
DTSTAMP:20260421T152937
CREATED:20250805T085731Z
LAST-MODIFIED:20250805T085838Z
UID:41391-1754956800-1755043199@cadworks.ro
SUMMARY:Adio coșmarului de revizuire a fișierelor
DESCRIPTION:Adio coșmarului de revizuire a fișierelor\nDacă ați lucrat ca designer de produse\, este probabil să fi pierdut\, la un moment dat\, o cantitate mare de timp căutând fișiere. De asemenea\, există posibilitatea ca\, la final\, să fi constatat că un coleg a salvat munca lui pe fișierului dvs. Cine mai are timp pentru a relua totul de la zero? \nCitiți articolul complet aici.
URL:https://cadworks.ro/event/adio-cosmarului-de-revizuire-a-fisierelor/
CATEGORIES:articol
ORGANIZER;CN="CadWorks":MAILTO:marketing@cadworks.ro
END:VEVENT
BEGIN:VEVENT
DTSTART;VALUE=DATE:20250819
DTEND;VALUE=DATE:20250820
DTSTAMP:20260421T152937
CREATED:20250805T090148Z
LAST-MODIFIED:20250805T090148Z
UID:41396-1755561600-1755647999@cadworks.ro
SUMMARY:Beneficiile simulării pentru startup-uri
DESCRIPTION:Beneficiile simulării pentru startup-uri\nDemararea unei afaceri este întotdeauna o provocare. Adesea\, obținerea finanțării se dovedește a fi dificilă. În plus\, proiectarea unui bun inovator\, atrăgător vizual și fiabil din punct de vedere funcțional\, necesită talent\, timp și resurse considerabile. \nCererea în creștere de produse inteligente\, care corespund unor standarde și reglementări mai stricte\, schimbă perspectiva asupra proiectării lor\, atât pe piețele industriale\, cât și pe cele de consum. Colaborarea mai strânsă dintre inginerii mecanici și electrici este esențială. Pentru startup-uri\, asta înseamnă testări mai complexe\, implicit – costuri suplimentare. \nCitiți articolul complet aici.
URL:https://cadworks.ro/event/beneficiile-simularii-pentru-startup-uri/
CATEGORIES:articol
ORGANIZER;CN="CadWorks":MAILTO:marketing@cadworks.ro
END:VEVENT
BEGIN:VEVENT
DTSTART;TZID=Europe/Helsinki:20260319T140000
DTEND;TZID=Europe/Helsinki:20260319T143000
DTSTAMP:20260421T152937
CREATED:20260309T145058Z
LAST-MODIFIED:20260309T151606Z
UID:43476-1773928800-1773930600@cadworks.ro
SUMMARY:Webinar Gratuit: Inteligența Artificială în SOLIDWORKS / SolidCAM
DESCRIPTION:Inteligența Artificială începe să transforme atât procesul de proiectare CAD\, cât și programarea CAM. În acest webinar gratuit vom explora cum noile tehnologii AI integrate în SOLIDWORKS și SolidCAM pot ajuta inginerii și programatorii CNC să lucreze mai rapid\, mai eficient și cu mai puține erori. \nVom discuta funcționalitățile disponibile astăzi\, dar și direcțiile de dezvoltare prezentate recent la 3DEXPERIENCE World 2026. \nÎNSCRIE-TE AICI \n  \n  \n\nAI în SOLIDWORKS\n\nAURA – Asistent AI de proiectareCum funcționează și cum poate deveni „colegul” tău digital în procesul de proiectare\, ajutând la automatizarea sarcinilor repetitive și la accelerarea modelării. \nLEO – Asistent AI pentru productivitateCum te poate ajuta să găsești rapid informații\, să înțelegi funcționalități și să lucrezi mai eficient în ecosistemul SOLIDWORKS. \nAutomatizare\, asistare și co-creare în mediul CADCum AI începe să devină parte activă în procesul de proiectare. \nFuncționalități AI existente și direcții viitoareCe există deja și ce urmează să apară în versiunile viitoare\, inclusiv noutăți prezentate la 3DEXPERIENCE World 2026. \n\nAI în SolidCAM\n\nSolidCAM Chatbot – Asistent AI pentru programare CAMUn nou mod de a interacționa cu sistemul CAM: prin conversație. Chatbot-ul poate oferi sugestii de strategii\, poate genera operații și poate optimiza programarea CNC. \nCloudNC – Generare automată de tehnologii de prelucrare prin AIDe la model CAD la strategie completă de prelucrare în câteva secunde\, folosind algoritmi AI antrenați pe mii de procese de fabricație. \nFluxuri de lucru accelerate cu AI în producțieCum pot noile tehnologii AI să reducă timpul de programare și să optimizeze procesele de fabricație. \n\nSesiune Q&A\n\nLa finalul webinarului vom avea o sesiune de întrebări și răspunsuri despre utilizarea AI în proiectare și programare CNC. \n 
URL:https://cadworks.ro/event/webinar-gratuit-inteligenta-artificiala-in-solidworks/
ATTACH;FMTTYPE=image/jpeg:https://cadworks.ro/wp-content/uploads/2026/03/WEBINAR-SW-AI1.jpg
ORGANIZER;CN="CAD WORKS":MAILTO:marketing@cadworks.ro
END:VEVENT
END:VCALENDAR