BEGIN:VCALENDAR
VERSION:2.0
PRODID:-//Cad Works Intl. - ECPv6.11.2//NONSGML v1.0//EN
CALSCALE:GREGORIAN
METHOD:PUBLISH
X-ORIGINAL-URL:https://cadworks.ro
X-WR-CALDESC:Events for Cad Works Intl.
REFRESH-INTERVAL;VALUE=DURATION:PT1H
X-Robots-Tag:noindex
X-PUBLISHED-TTL:PT1H
BEGIN:VTIMEZONE
TZID:Europe/Helsinki
BEGIN:DAYLIGHT
TZOFFSETFROM:+0200
TZOFFSETTO:+0300
TZNAME:EEST
DTSTART:20250330T010000
END:DAYLIGHT
BEGIN:STANDARD
TZOFFSETFROM:+0300
TZOFFSETTO:+0200
TZNAME:EET
DTSTART:20251026T010000
END:STANDARD
END:VTIMEZONE
BEGIN:VEVENT
DTSTART;VALUE=DATE:20250805
DTEND;VALUE=DATE:20250806
DTSTAMP:20260421T125621
CREATED:20250805T085436Z
LAST-MODIFIED:20250805T085945Z
UID:41387-1754352000-1754438399@cadworks.ro
SUMMARY:Soluția de proiectare SOLIDWORKS potrivită
DESCRIPTION:Soluția de proiectare SOLIDWORKS potrivită\n\nFiecare companie\, fie ea o întreprindere mare sau un atelier mic de scule și matrițe\, are obiective de afaceri unice de îndeplinit. Când vine vorba de proiectare și inginerie\, modul în care doriți sau aveți nevoie să proiectați și să dezvoltați produsele este esențial. Vestea bună este că SOLIDWORKS® are soluții de proiectare și dezvoltare care îndeplinesc obiectivele oricărei companii. \nCitiți articolul complet aici.
URL:https://cadworks.ro/event/solutia-de-proiectare-solidworks-potrivita/
CATEGORIES:articol
ORGANIZER;CN="CadWorks":MAILTO:marketing@cadworks.ro
END:VEVENT
BEGIN:VEVENT
DTSTART;VALUE=DATE:20250807
DTEND;VALUE=DATE:20250808
DTSTAMP:20260421T125621
CREATED:20250805T085627Z
LAST-MODIFIED:20250805T085909Z
UID:41389-1754524800-1754611199@cadworks.ro
SUMMARY:Comunicare îmbunătățită cu 3D for Makers
DESCRIPTION:Comunicare îmbunătățită cu 3D for Makers\nComunicăm prin texte\, imagini\, fișiere audio și videoclipuri. Nu e de mirare că internetul a fost populat cu ele în ultimele decenii. Au fost construite afaceri de miliarde de dolari cu conținut specializat\, cum ar fi Substack pentru texte\, Instagram pentru imagini\, Spotify pentru fișiere audio și YouTube pentru videoclipuri. \nCitiți articolul complet aici.
URL:https://cadworks.ro/event/comunicare-imbunatatita-cu-3d-for-makers/
CATEGORIES:articol
ORGANIZER;CN="CadWorks":MAILTO:marketing@cadworks.ro
END:VEVENT
BEGIN:VEVENT
DTSTART;VALUE=DATE:20250812
DTEND;VALUE=DATE:20250813
DTSTAMP:20260421T125621
CREATED:20250805T085731Z
LAST-MODIFIED:20250805T085838Z
UID:41391-1754956800-1755043199@cadworks.ro
SUMMARY:Adio coșmarului de revizuire a fișierelor
DESCRIPTION:Adio coșmarului de revizuire a fișierelor\nDacă ați lucrat ca designer de produse\, este probabil să fi pierdut\, la un moment dat\, o cantitate mare de timp căutând fișiere. De asemenea\, există posibilitatea ca\, la final\, să fi constatat că un coleg a salvat munca lui pe fișierului dvs. Cine mai are timp pentru a relua totul de la zero? \nCitiți articolul complet aici.
URL:https://cadworks.ro/event/adio-cosmarului-de-revizuire-a-fisierelor/
CATEGORIES:articol
ORGANIZER;CN="CadWorks":MAILTO:marketing@cadworks.ro
END:VEVENT
BEGIN:VEVENT
DTSTART;VALUE=DATE:20250819
DTEND;VALUE=DATE:20250820
DTSTAMP:20260421T125621
CREATED:20250805T090148Z
LAST-MODIFIED:20250805T090148Z
UID:41396-1755561600-1755647999@cadworks.ro
SUMMARY:Beneficiile simulării pentru startup-uri
DESCRIPTION:Beneficiile simulării pentru startup-uri\nDemararea unei afaceri este întotdeauna o provocare. Adesea\, obținerea finanțării se dovedește a fi dificilă. În plus\, proiectarea unui bun inovator\, atrăgător vizual și fiabil din punct de vedere funcțional\, necesită talent\, timp și resurse considerabile. \nCererea în creștere de produse inteligente\, care corespund unor standarde și reglementări mai stricte\, schimbă perspectiva asupra proiectării lor\, atât pe piețele industriale\, cât și pe cele de consum. Colaborarea mai strânsă dintre inginerii mecanici și electrici este esențială. Pentru startup-uri\, asta înseamnă testări mai complexe\, implicit – costuri suplimentare. \nCitiți articolul complet aici.
URL:https://cadworks.ro/event/beneficiile-simularii-pentru-startup-uri/
CATEGORIES:articol
ORGANIZER;CN="CadWorks":MAILTO:marketing@cadworks.ro
END:VEVENT
END:VCALENDAR